BEGIN:VCALENDAR
VERSION:2.0
PRODID:-//SALT Artists - ECPv6.15.10//NONSGML v1.0//EN
CALSCALE:GREGORIAN
METHOD:PUBLISH
X-ORIGINAL-URL:https://www.saltartists.com
X-WR-CALDESC:Events for SALT Artists
REFRESH-INTERVAL;VALUE=DURATION:PT1H
X-Robots-Tag:noindex
X-PUBLISHED-TTL:PT1H
BEGIN:VTIMEZONE
TZID:America/Denver
BEGIN:DAYLIGHT
TZOFFSETFROM:-0700
TZOFFSETTO:-0600
TZNAME:MDT
DTSTART:20140309T090000
END:DAYLIGHT
BEGIN:STANDARD
TZOFFSETFROM:-0600
TZOFFSETTO:-0700
TZNAME:MST
DTSTART:20141102T080000
END:STANDARD
BEGIN:DAYLIGHT
TZOFFSETFROM:-0700
TZOFFSETTO:-0600
TZNAME:MDT
DTSTART:20150308T090000
END:DAYLIGHT
BEGIN:STANDARD
TZOFFSETFROM:-0600
TZOFFSETTO:-0700
TZNAME:MST
DTSTART:20151101T080000
END:STANDARD
BEGIN:DAYLIGHT
TZOFFSETFROM:-0700
TZOFFSETTO:-0600
TZNAME:MDT
DTSTART:20160313T090000
END:DAYLIGHT
BEGIN:STANDARD
TZOFFSETFROM:-0600
TZOFFSETTO:-0700
TZNAME:MST
DTSTART:20161106T080000
END:STANDARD
END:VTIMEZONE
BEGIN:VEVENT
DTSTART;TZID=America/Denver:20151106T193000
DTEND;TZID=America/Denver:20151106T220000
DTSTAMP:20260424T001607
CREATED:20151105T184541Z
LAST-MODIFIED:20151105T184541Z
UID:6930-1446838200-1446847200@www.saltartists.com
SUMMARY:Okkah's Album Release
DESCRIPTION:“After a year of writing\, recording\, and producing\, we are finally ready to present a product we know you will love. We have spent thousands of hours of music and self discovering throughout our journey to create this album. And we are extatic to present it to you on Friday November 6th with two amazing groups of fellow artists: Two Nations and Miles Out. Buy your tickets now. It’s sure to be a good one.” \n 
URL:https://www.saltartists.com/event/okkahs-album-release/
LOCATION:VELOUR\, 135 N University Ave\, \, Provo\, UT\, 84601\, United States
CATEGORIES:Concerts
ATTACH;FMTTYPE=image/jpeg:https://www.saltartists.com/wp-content/uploads/2015/11/12189373_1039432742773961_8297838182274002751_o.jpg
END:VEVENT
END:VCALENDAR